BEGIN:VCALENDAR
VERSION:2.0
PRODID:-//CiviCRM//NONSGML CiviEvent iCal//EN
X-WR-TIMEZONE:Australia/Sydney
METHOD:PUBLISH
BEGIN:VEVENT
UID:CiviCRM_EventID_10_0ac97eed2588590e510caaf12d4dae09@administration.investors.asn.au
SUMMARY:Back to the Future- Annual Investment Summit - Fri
 day\,15th March 2019
DESCRIPTION:\n \n Investors have a lot to worry about\, expert
 s are predicting a 20% fall in Australian property
  prices\, a change in government will see major ta
 x changes including the likely loss of franking cr
 edits. \n \n Global interest rates are raising\, i
 nflation is starting to rear its head again\, asse
 t valuations are stretched\, disruption is everywh
 ere and markets are once again volatile. With the 
 majority of American economists now predicting a r
 ecession within the next two years\, investors nee
 d to ensure they future proof their portfolios. 
CATEGORIES:Summit
CALSCALE:GREGORIAN
DTSTAMP;VALUE=DATE-TIME:20190315T090000
DTSTART;VALUE=DATE-TIME:20190315T090000
DTEND;VALUE=DATE-TIME:20190315T090000
LOCATION:International Convention Centre - Sydney\n Level 4
  Room C4.4\n 14 Darling Drive\n Sydney\, QLD 2000\
 n Australia\n 
ORGANIZER:MAILTO:aia@investors.asn.au
URL:https://administration.investors.asn.au/civicrm/?page=CiviCRM&q=civicrm%2Fevent%2Finfo&reset=1&id=10
END:VEVENT
END:VCALENDAR
